BEGIN:VCALENDAR
VERSION:2.0
PRODID:icalendar-ruby
CALSCALE:GREGORIAN
METHOD:PUBLISH
BEGIN:VEVENT
DTSTAMP:20260423T204655Z
UID:83-1065504@tpalife.org
DTSTART:20260508T020000Z
DTEND:20260508T040000Z
CLASS:PUBLIC
CREATED:20260418T191446
DESCRIPTION:
LAST-MODIFIED:20260418T191446
LOCATION:Fireside Room
SUMMARY:Adult Social
URL;VALUE=URI:https://www.tpalife.org/events/adult-social/2026-05-07
ATTACH;FILENAME=ADULT SOCIAL.png;FMTTYPE=image/png:https://dq5pwpg1q8ru0.cl
 oudfront.net/2026/04/19/02/14/46/78f0c559-532e-4718-a2cf-9088d2250c52/ADUL
 T%20SOCIAL.png
END:VEVENT
END:VCALENDAR
